BEGIN:VCALENDAR
VERSION:2.0
PRODID:-//South Central Coast Regional Consortium - ECPv6.15.20//NONSGML v1.0//EN
CALSCALE:GREGORIAN
METHOD:PUBLISH
X-ORIGINAL-URL:https://sccrcolleges.org
X-WR-CALDESC:Events for South Central Coast Regional Consortium
REFRESH-INTERVAL;VALUE=DURATION:PT1H
X-Robots-Tag:noindex
X-PUBLISHED-TTL:PT1H
BEGIN:VTIMEZONE
TZID:America/Los_Angeles
BEGIN:DAYLIGHT
TZOFFSETFROM:-0800
TZOFFSETTO:-0700
TZNAME:PDT
DTSTART:20200308T100000
END:DAYLIGHT
BEGIN:STANDARD
TZOFFSETFROM:-0700
TZOFFSETTO:-0800
TZNAME:PST
DTSTART:20201101T090000
END:STANDARD
BEGIN:DAYLIGHT
TZOFFSETFROM:-0800
TZOFFSETTO:-0700
TZNAME:PDT
DTSTART:20210314T100000
END:DAYLIGHT
BEGIN:STANDARD
TZOFFSETFROM:-0700
TZOFFSETTO:-0800
TZNAME:PST
DTSTART:20211107T090000
END:STANDARD
BEGIN:DAYLIGHT
TZOFFSETFROM:-0800
TZOFFSETTO:-0700
TZNAME:PDT
DTSTART:20220313T100000
END:DAYLIGHT
BEGIN:STANDARD
TZOFFSETFROM:-0700
TZOFFSETTO:-0800
TZNAME:PST
DTSTART:20221106T090000
END:STANDARD
END:VTIMEZONE
BEGIN:VEVENT
DTSTART;TZID=America/Los_Angeles:20210728T020000
DTEND;TZID=America/Los_Angeles:20210929T100000
DTSTAMP:20260423T051218
CREATED:20210715T041949Z
LAST-MODIFIED:20210720T045437Z
UID:10001366-1627437600-1632909600@sccrcolleges.org
SUMMARY:Summer Events from Tri-County Regional Energy Network (3C-REN)
DESCRIPTION:Below is 3C-REN’s summer events calendar\, attached as a PDF in case you’d like to distribute it to others. It’s also available at www.3c-ren.org/events. All 3C-REN events are free and offered online at this time. \nDates are throughout July\, August and September. \nSummer Events Calendar: 3C-REN Events_Summer 2021 \nFor more information: \nIan Logan\n​​​Tri-County Regional Energy Network (3C-REN)\nCounty Executive Office\, Sustainability Division\nCounty of Ventura | www.3C-REN.org
URL:https://sccrcolleges.org/event/summer-events-from-tri-county-regional-energy-network-3c-ren/
LOCATION:Online Meeting
CATEGORIES:Regional Events
END:VEVENT
BEGIN:VEVENT
DTSTART;TZID=America/Los_Angeles:20210929T010000
DTEND;TZID=America/Los_Angeles:20210929T100000
DTSTAMP:20260423T051218
CREATED:20210916T000750Z
LAST-MODIFIED:20210916T001044Z
UID:10001247-1632877200-1632909600@sccrcolleges.org
SUMMARY:Teaching Dual Enrollment Students
DESCRIPTION:PREPARE TO BECOME A DUAL ENROLLMENT TEACHER\n\nDual enrollment is an educational practice that enables high school students to enroll in and complete credit-bearing college courses\, making it more likely that they will graduate from high school\, and that they will also enroll and succeed in college.\n\nCal State LA’s Teaching Dual Enrollment Students Online Program aims to increase the pool of qualified community college teachers instructing in a dual enrollment setting at the high school level. The program offers participants important insights and knowledge to prepare them as dual enrollment teachers with a comprehensive overview of dual enrollment programs\, including research evidence and data. Participants will also gain pedagogical strategies and logistical support necessary to succeed as dual enrollment instructors.\n\nIn addition\, upon completion of the program\, participants will receive two (2) Continuing Education Units (CEUs)\, and a Certificate of Completion.\n\nRegister by Wednesday\, September 29 for our Fall 2021 online program that begins on October 7.\n\nFor more information\, email Agustin Cervantes or call (323) 343-4320.
URL:https://sccrcolleges.org/event/teaching-dual-enrollment-students/
LOCATION:Online Meeting
CATEGORIES:Regional Events
END:VEVENT
END:VCALENDAR