BEGIN:VCALENDAR
VERSION:2.0
PRODID:-//South Central Coast Regional Consortium - ECPv6.15.20//NONSGML v1.0//EN
CALSCALE:GREGORIAN
METHOD:PUBLISH
X-ORIGINAL-URL:https://sccrcolleges.org
X-WR-CALDESC:Events for South Central Coast Regional Consortium
REFRESH-INTERVAL;VALUE=DURATION:PT1H
X-Robots-Tag:noindex
X-PUBLISHED-TTL:PT1H
BEGIN:VTIMEZONE
TZID:America/Los_Angeles
BEGIN:DAYLIGHT
TZOFFSETFROM:-0800
TZOFFSETTO:-0700
TZNAME:PDT
DTSTART:20200308T100000
END:DAYLIGHT
BEGIN:STANDARD
TZOFFSETFROM:-0700
TZOFFSETTO:-0800
TZNAME:PST
DTSTART:20201101T090000
END:STANDARD
BEGIN:DAYLIGHT
TZOFFSETFROM:-0800
TZOFFSETTO:-0700
TZNAME:PDT
DTSTART:20210314T100000
END:DAYLIGHT
BEGIN:STANDARD
TZOFFSETFROM:-0700
TZOFFSETTO:-0800
TZNAME:PST
DTSTART:20211107T090000
END:STANDARD
BEGIN:DAYLIGHT
TZOFFSETFROM:-0800
TZOFFSETTO:-0700
TZNAME:PDT
DTSTART:20220313T100000
END:DAYLIGHT
BEGIN:STANDARD
TZOFFSETFROM:-0700
TZOFFSETTO:-0800
TZNAME:PST
DTSTART:20221106T090000
END:STANDARD
END:VTIMEZONE
BEGIN:VEVENT
DTSTART;TZID=America/Los_Angeles:20211202T060000
DTEND;TZID=America/Los_Angeles:20211202T064500
DTSTAMP:20260423T072943
CREATED:20211110T050705Z
LAST-MODIFIED:20211118T064530Z
UID:10001376-1638424800-1638427500@sccrcolleges.org
SUMMARY:Bridging the K–14 CTE Talent Pipeline - Presentation at ACTE Conference
DESCRIPTION:The K12 SWP initiative intentionally supports cross-system partnerships between K–12 and community colleges\, or intersegmental partnerships\, to develop an education and workforce development student pipeline through strengthened K–14 CTE course sequences\, programs and pathways. K12 SWP emphasizes vertical curricular alignment in K–14 CTE programs of study between LEAs and community colleges. Learn how the South Central Regional Coast is supporting CTE throughout their region through state funding\, outreach to LEAs via Labor Market Data\, facilitating dual enrollment and articulation\, targeting special populations\, and CTE mapping. \nACTE’s National Conference \nThursday\, Dec 02\, 2021\n2:00 PM – 2:45 PM (PST)\n*registration for the virtual session is $350
URL:https://sccrcolleges.org/event/bridging-the-k-14-cte-talent-pipeline-presentation-at-acte-conference/
LOCATION:Online Meeting
CATEGORIES:Regional Events
END:VEVENT
END:VCALENDAR