BEGIN:VCALENDAR
VERSION:2.0
PRODID:-//South Central Coast Regional Consortium - ECPv6.15.20//NONSGML v1.0//EN
CALSCALE:GREGORIAN
METHOD:PUBLISH
X-ORIGINAL-URL:https://sccrcolleges.org
X-WR-CALDESC:Events for South Central Coast Regional Consortium
REFRESH-INTERVAL;VALUE=DURATION:PT1H
X-Robots-Tag:noindex
X-PUBLISHED-TTL:PT1H
BEGIN:VTIMEZONE
TZID:America/Los_Angeles
BEGIN:DAYLIGHT
TZOFFSETFROM:-0800
TZOFFSETTO:-0700
TZNAME:PDT
DTSTART:20250309T100000
END:DAYLIGHT
BEGIN:STANDARD
TZOFFSETFROM:-0700
TZOFFSETTO:-0800
TZNAME:PST
DTSTART:20251102T090000
END:STANDARD
BEGIN:DAYLIGHT
TZOFFSETFROM:-0800
TZOFFSETTO:-0700
TZNAME:PDT
DTSTART:20260308T100000
END:DAYLIGHT
BEGIN:STANDARD
TZOFFSETFROM:-0700
TZOFFSETTO:-0800
TZNAME:PST
DTSTART:20261101T090000
END:STANDARD
BEGIN:DAYLIGHT
TZOFFSETFROM:-0800
TZOFFSETTO:-0700
TZNAME:PDT
DTSTART:20270314T100000
END:DAYLIGHT
BEGIN:STANDARD
TZOFFSETFROM:-0700
TZOFFSETTO:-0800
TZNAME:PST
DTSTART:20271107T090000
END:STANDARD
END:VTIMEZONE
BEGIN:VEVENT
DTSTART;TZID=America/Los_Angeles:20260220T100000
DTEND;TZID=America/Los_Angeles:20260220T140000
DTSTAMP:20260420T015856
CREATED:20250919T214135Z
LAST-MODIFIED:20260319T175342Z
UID:10001493-1771581600-1771596000@sccrcolleges.org
SUMMARY:SCCRC Regional Meeting (In person at College of the Canyons\, Advanced Technology Center)
DESCRIPTION:SCCRC Regional Meeting Minutes \nSCCRC Executive Director’s Slides \nCCCAOE Regional VP’s slides    CCCAOE Regional VP’s Feb 2026 Report \nCCCCO WEDD Update February 2026 \nCommunity College Apprenticeship Program Creation and Expansion Statewide Convening flyer \nAttendee List for Regional Mtg 2-20-26 \n  \n 
URL:https://sccrcolleges.org/event/sccrc-regional-meeting-zoom-6/
LOCATION:College of the Canyons- Advanced Technology Center\, 26306 Diamond Place\, Santa Clarita\, CA\, 91350\, United States
CATEGORIES:SCCRC Meetings
END:VEVENT
BEGIN:VEVENT
DTSTART;TZID=America/Los_Angeles:20260320T090000
DTEND;TZID=America/Los_Angeles:20260320T103000
DTSTAMP:20260420T015856
CREATED:20250919T214207Z
LAST-MODIFIED:20260331T184143Z
UID:10001494-1773997200-1774002600@sccrcolleges.org
SUMMARY:SCCRC Regional Meeting - CANCELLED
DESCRIPTION:A Regional Memo was sent out in lieu of the March 20th Regional Meeting.
URL:https://sccrcolleges.org/event/sccrc-regional-meeting-zoom-7/
LOCATION:Memo in lieu of meeting this month
CATEGORIES:SCCRC Meetings
END:VEVENT
BEGIN:VEVENT
DTSTART;TZID=America/Los_Angeles:20260422T100000
DTEND;TZID=America/Los_Angeles:20260422T113000
DTSTAMP:20260420T015856
CREATED:20250919T214300Z
LAST-MODIFIED:20260417T215748Z
UID:10001495-1776852000-1776857400@sccrcolleges.org
SUMMARY:SCCRC Regional Meeting at CCCAOE
DESCRIPTION:AGENDA \nMeeting will be from 10am-11:30am. \nMeeting Room: Carmel Room A & B
URL:https://sccrcolleges.org/event/sccrc-regional-meeting-at-cccaoe-time-tbd/
LOCATION:Hyatt Regency Sacramento\, 1209 L Street\, Sacramento\, CA\, 95814\, United States
CATEGORIES:SCCRC Meetings
END:VEVENT
BEGIN:VEVENT
DTSTART;TZID=America/Los_Angeles:20260515T090000
DTEND;TZID=America/Los_Angeles:20260515T103000
DTSTAMP:20260420T015856
CREATED:20251203T214938Z
LAST-MODIFIED:20260202T211809Z
UID:10001496-1778835600-1778841000@sccrcolleges.org
SUMMARY:SCCRC Regional Meeting
DESCRIPTION:Join from PC\, Mac\, Linux\, iOS or Android: https://cccconfer.zoom.us/j/84222249403 \nOr iPhone one-tap (US Toll): +16699006833\,84222249403# or +16694449171\,84222249403# \nOr Telephone:  +1 669 900 6833 (US Toll)     +1 669 444 9171 (US Toll) \nMeeting ID: 842 2224 9403
URL:https://sccrcolleges.org/event/sccrc-regional-meeting-zoom-8/
LOCATION:Online Meeting
CATEGORIES:SCCRC Meetings
END:VEVENT
BEGIN:VEVENT
DTSTART;TZID=America/Los_Angeles:20260626T100000
DTEND;TZID=America/Los_Angeles:20260626T140000
DTSTAMP:20260420T015856
CREATED:20251203T215302Z
LAST-MODIFIED:20260220T215940Z
UID:10001497-1782468000-1782482400@sccrcolleges.org
SUMMARY:SCCRC Regional Meeting (In person at the Innovation Center\, Camarillo)
DESCRIPTION:The June 26th\, 2026 Regional Consortium Meeting will take place from 10:00AM to 2:00PM at the HIVE Innovation Center in Camarillo\, 555 Airport Way\, Suite A.  A parking and site map is here. \nMorning refreshments and a full lunch will be provided. \nAgenda forthcoming.
URL:https://sccrcolleges.org/event/sccrc-regional-meeting-zoom-9/
LOCATION:HIVE Autonomous Innovation Center – Camarillo\, 555 Airport Way\, Camarillo\, CA\, 93010\, United States
CATEGORIES:SCCRC Meetings
END:VEVENT
END:VCALENDAR