BEGIN:VCALENDAR
VERSION:2.0
PRODID:-//South Central Coast Regional Consortium - ECPv6.15.20//NONSGML v1.0//EN
CALSCALE:GREGORIAN
METHOD:PUBLISH
X-WR-CALNAME:South Central Coast Regional Consortium
X-ORIGINAL-URL:https://sccrcolleges.org
X-WR-CALDESC:Events for South Central Coast Regional Consortium
REFRESH-INTERVAL;VALUE=DURATION:PT1H
X-Robots-Tag:noindex
X-PUBLISHED-TTL:PT1H
BEGIN:VTIMEZONE
TZID:America/Los_Angeles
BEGIN:DAYLIGHT
TZOFFSETFROM:-0800
TZOFFSETTO:-0700
TZNAME:PDT
DTSTART:20170312T100000
END:DAYLIGHT
BEGIN:STANDARD
TZOFFSETFROM:-0700
TZOFFSETTO:-0800
TZNAME:PST
DTSTART:20171105T090000
END:STANDARD
BEGIN:DAYLIGHT
TZOFFSETFROM:-0800
TZOFFSETTO:-0700
TZNAME:PDT
DTSTART:20180311T100000
END:DAYLIGHT
BEGIN:STANDARD
TZOFFSETFROM:-0700
TZOFFSETTO:-0800
TZNAME:PST
DTSTART:20181104T090000
END:STANDARD
BEGIN:DAYLIGHT
TZOFFSETFROM:-0800
TZOFFSETTO:-0700
TZNAME:PDT
DTSTART:20190310T100000
END:DAYLIGHT
BEGIN:STANDARD
TZOFFSETFROM:-0700
TZOFFSETTO:-0800
TZNAME:PST
DTSTART:20191103T090000
END:STANDARD
BEGIN:DAYLIGHT
TZOFFSETFROM:-0800
TZOFFSETTO:-0700
TZNAME:PDT
DTSTART:20200308T100000
END:DAYLIGHT
BEGIN:STANDARD
TZOFFSETFROM:-0700
TZOFFSETTO:-0800
TZNAME:PST
DTSTART:20201101T090000
END:STANDARD
END:VTIMEZONE
BEGIN:VEVENT
DTSTART;TZID=America/Los_Angeles:20190503T030000
DTEND;TZID=America/Los_Angeles:20190503T070000
DTSTAMP:20260422T092029
CREATED:20190917T020713Z
LAST-MODIFIED:20190917T030606Z
UID:10001164-1556852400-1556866800@sccrcolleges.org
SUMMARY:SCCRC Steering Committee Meeting
DESCRIPTION:SCCRC Steering Committee Minutes 5/3/19 \nSCCRC Steering Committee Booklet (Handouts)
URL:https://sccrcolleges.org/event/2121/
CATEGORIES:SCCRC Meetings
END:VEVENT
BEGIN:VEVENT
DTSTART;TZID=America/Los_Angeles:20190503T020000
DTEND;TZID=America/Los_Angeles:20190503T030000
DTSTAMP:20260422T092029
CREATED:20190917T030738Z
LAST-MODIFIED:20190917T030850Z
UID:10001165-1556848800-1556852400@sccrcolleges.org
SUMMARY:SCCRC CTE Deans Meeting
DESCRIPTION:SCCRC CTE Deans Meeting Minutes 5/3/19
URL:https://sccrcolleges.org/event/sccrc-cte-deans-meeting/
CATEGORIES:SCCRC Meetings
END:VEVENT
BEGIN:VEVENT
DTSTART;TZID=America/Los_Angeles:20190404T080000
DTEND;TZID=America/Los_Angeles:20190404T100000
DTSTAMP:20260422T092029
CREATED:20190917T031349Z
LAST-MODIFIED:20190917T031407Z
UID:10001296-1554364800-1554372000@sccrcolleges.org
SUMMARY:SCCRC Regional Meeting at CCCAOE
DESCRIPTION:SCCRC Regional Meeting Minutes 4/4/19
URL:https://sccrcolleges.org/event/sccrc-regional-meeting-at-cccaoe/
CATEGORIES:SCCRC Meetings
END:VEVENT
BEGIN:VEVENT
DTSTART;TZID=America/Los_Angeles:20190322T020000
DTEND;TZID=America/Los_Angeles:20190322T080000
DTSTAMP:20260422T092029
CREATED:20190917T031901Z
LAST-MODIFIED:20190917T032204Z
UID:10001297-1553220000-1553241600@sccrcolleges.org
SUMMARY:SCCRC Regional Meeting
DESCRIPTION:SCCRC Regional Meeting Minutes 3/22/19 \nGlobal Trade Sector Projects PPT 3/22/19
URL:https://sccrcolleges.org/event/sccrc-regional-meeting/
CATEGORIES:SCCRC Meetings
END:VEVENT
BEGIN:VEVENT
DTSTART;TZID=America/Los_Angeles:20190222T040000
DTEND;TZID=America/Los_Angeles:20190222T070000
DTSTAMP:20260422T092029
CREATED:20190917T040005Z
LAST-MODIFIED:20190917T040212Z
UID:10001298-1550808000-1550818800@sccrcolleges.org
SUMMARY:SCCRC Regional Key Talent Meeting
DESCRIPTION:SCCRC Regional Key Talent Meeting Minutes 2/22/19
URL:https://sccrcolleges.org/event/sccrc-regional-key-talent-meeting/
CATEGORIES:SCCRC Meetings
END:VEVENT
BEGIN:VEVENT
DTSTART;TZID=America/Los_Angeles:20190222T010000
DTEND;TZID=America/Los_Angeles:20190222T040000
DTSTAMP:20260422T092029
CREATED:20190917T040401Z
LAST-MODIFIED:20190917T041155Z
UID:10001299-1550797200-1550808000@sccrcolleges.org
SUMMARY:SCCRC Regional Meeting
DESCRIPTION:SCCRC Regional Meeting 2/22/19 \nK12 SWP Selection Committee Memo of 2/21/19 \nSBCC Career Skills Institute – Presentation by Dr. Melissa Moreno 2/22/19 \nAdvanced Manufacturing Strategic Plan – Slides by Michael Bastine \n 
URL:https://sccrcolleges.org/event/sccrc-regional-meeting-2/
CATEGORIES:SCCRC Meetings
END:VEVENT
BEGIN:VEVENT
DTSTART;TZID=America/Los_Angeles:20190114T010000
DTEND;TZID=America/Los_Angeles:20190114T060000
DTSTAMP:20260422T092029
CREATED:20190917T042259Z
LAST-MODIFIED:20190917T042546Z
UID:10001300-1547427600-1547445600@sccrcolleges.org
SUMMARY:SCCRC Regional SWP Mid-Year Meeting
DESCRIPTION:SCCRC Regional Mid-Year Meeting Minutes 1/14/19 \nSCCRC Regional Mid-Year Meeting PPT \nRegional Strong Workforce Program Mid-Year Meeting PPT (Center of Excellence\, Adele Hermann) \nSCCRC Regional SWP Planning & Reporting Timeline
URL:https://sccrcolleges.org/event/sccrc-regional-swp-mid-year-meeting/
CATEGORIES:SCCRC Meetings
END:VEVENT
BEGIN:VEVENT
DTSTART;TZID=America/Los_Angeles:20190113T050000
DTEND;TZID=America/Los_Angeles:20190113T083000
DTSTAMP:20260422T092029
CREATED:20190917T043354Z
LAST-MODIFIED:20190917T043627Z
UID:10001301-1547355600-1547368200@sccrcolleges.org
SUMMARY:SCCRC Steering Committee Meeting
DESCRIPTION:SCCRC Steering Committee Meeting Minutes 1/13/19 \nSCCRC Steering Committee Mtg  PPT  1/13/19 \nSCCRC Proposed Process for Regional Review Team for K12 Selection Committee \nSCCRC Planning & Reporting Timeline \nCenter of Excellence (Adele Hermann) PPT 1/13/19 \n 
URL:https://sccrcolleges.org/event/sccrc-steering-committee-meeting/
CATEGORIES:SCCRC Meetings
END:VEVENT
BEGIN:VEVENT
DTSTART;TZID=America/Los_Angeles:20181207T090000
DTEND;TZID=America/Los_Angeles:20181207T160000
DTSTAMP:20260422T092029
CREATED:20180803T232754Z
LAST-MODIFIED:20190927T005823Z
UID:10001204-1544173200-1544198400@sccrcolleges.org
SUMMARY:SCCRC SWP Regional Meeting
DESCRIPTION:SCCRC SWP Regional Meeting MINUTES 12-8-19
URL:https://sccrcolleges.org/event/sccrc-swp-regional-meeting-december-2018/
LOCATION:Pierpont Inn\, 550 Sanjon Road\, Ventura\, CA\, 93001\, United States
CATEGORIES:SCCRC Meetings
END:VEVENT
BEGIN:VEVENT
DTSTART;TZID=America/Los_Angeles:20181116T090000
DTEND;TZID=America/Los_Angeles:20181116T160000
DTSTAMP:20260422T092029
CREATED:20180803T235933Z
LAST-MODIFIED:20190912T212122Z
UID:10001206-1542358800-1542384000@sccrcolleges.org
SUMMARY:SCCRC SWP Regional Meeting
DESCRIPTION:
URL:https://sccrcolleges.org/event/sccrc-swp-regional-meeting-november-2018/
LOCATION:Pierpont Inn\, 550 Sanjon Road\, Ventura\, CA\, 93001\, United States
CATEGORIES:SCCRC Meetings
END:VEVENT
BEGIN:VEVENT
DTSTART;VALUE=DATE:20181010
DTEND;VALUE=DATE:20181013
DTSTAMP:20260422T092029
CREATED:20180804T000340Z
LAST-MODIFIED:20200313T062644Z
UID:10001208-1539129600-1539388799@sccrcolleges.org
SUMMARY:SCCRC SWP Regional Meeting at CCCAOE
DESCRIPTION:SCCRC SWP Regional Meeting at CCCAOE Minutes 10-11-18
URL:https://sccrcolleges.org/event/sccrc-swp-regional-meeting-at-cccaoe/
LOCATION:Omni Rancho Las Palmas (In-person only)\, 41000 Bob Hope Drive\, Rancho Mirage\, CA\, 92270\, United States
CATEGORIES:SCCRC Meetings
END:VEVENT
BEGIN:VEVENT
DTSTART;TZID=America/Los_Angeles:20180919T070000
DTEND;TZID=America/Los_Angeles:20180921T151500
DTSTAMP:20260422T092029
CREATED:20180804T004326Z
LAST-MODIFIED:20180804T004326Z
UID:10001218-1537340400-1537542900@sccrcolleges.org
SUMMARY:Making\, Inventing\, and Entrepreneurship: New Pathways and New Opportunities
DESCRIPTION:The Business and Entrepreneurship Sector is partnering with the National Association for Community College Entrepreneurship (NACCE) to put on a Go West Conference Sept 19-21 in San Francisco. \nThe theme is Making\, Inventing\, and Entrepreneurship: New Pathways and New Opportunities. I encourage you to take advantage of this great professional development and networking opportunity. The Business and Entrepreneurship Sector DSNs are providing a limited amount of funding to cover the registration fees for community college faculty\, K-12 teachers\, administrators\, and others to attend. \nContact Gayla Jurevich for more information at gayla_jurevich@cuesta.edu \nRegister
URL:https://sccrcolleges.org/event/making-inventing-and-entrepreneurship-new-pathways-and-new-opportunities/
LOCATION:Hyatt Regency San Francisco Airport\, 1333 Bayshore Highway\, Burlingame\, CA\, 94010\, United States
CATEGORIES:Regional Events
END:VEVENT
BEGIN:VEVENT
DTSTART;TZID=America/Los_Angeles:20180914T130000
DTEND;TZID=America/Los_Angeles:20180914T160000
DTSTAMP:20260422T092029
CREATED:20180804T000451Z
LAST-MODIFIED:20200313T032730Z
UID:10001210-1536930000-1536940800@sccrcolleges.org
SUMMARY:SCCRC Regional Business Meeting & Micro-Regional  Stakeholder Meeting
DESCRIPTION:SCCRC Business Meeting & Micro-Regional Stakeholder Meeting Minutes 9/14/18
URL:https://sccrcolleges.org/event/sccrc-regional-aebg-meeting/
LOCATION:Pierpont Inn\, 550 Sanjon Road\, Ventura\, CA\, 93001\, United States
CATEGORIES:SCCRC Meetings
END:VEVENT
BEGIN:VEVENT
DTSTART;TZID=America/Los_Angeles:20180824T090000
DTEND;TZID=America/Los_Angeles:20180824T160000
DTSTAMP:20260422T092029
CREATED:20180804T000627Z
LAST-MODIFIED:20190927T005125Z
UID:10001212-1535101200-1535126400@sccrcolleges.org
SUMMARY:SCCRC SWP Regional Meeting
DESCRIPTION:SCCRC SWP Regional Meeting MINUTES 8-24-18 \nSCCRC Key Talent Report Aug2018_COE Slides
URL:https://sccrcolleges.org/event/sccrc-swp-regional-meeting-august-2018/
LOCATION:Pierpont Inn\, 550 Sanjon Road\, Ventura\, CA\, 93001\, United States
CATEGORIES:SCCRC Meetings
END:VEVENT
BEGIN:VEVENT
DTSTART;TZID=America/Los_Angeles:20180810T090000
DTEND;TZID=America/Los_Angeles:20180810T150000
DTSTAMP:20260422T092029
CREATED:20180804T004759Z
LAST-MODIFIED:20180804T004759Z
UID:10001219-1533891600-1533913200@sccrcolleges.org
SUMMARY:Answering Why: Unleashing Passion\, Purpose\, and Performance in Younger Generations (offered TWO times: 9am and 1pm)
DESCRIPTION:August_10th_Flyer_for_Mark_Perna.pdf
URL:https://sccrcolleges.org/event/answering-why-unleashing-passion-purpose-and-performance-in-younger-generations-offered-two-times-9am-and-1pm/
LOCATION:College of the Canyons\, 26455 Rockwell Canyon Rd\, Santa Clarita\, CA\, 91355\, United States
CATEGORIES:Regional Events
END:VEVENT
BEGIN:VEVENT
DTSTART;TZID=America/Los_Angeles:20180808T090000
DTEND;TZID=America/Los_Angeles:20180808T140000
DTSTAMP:20260422T092029
CREATED:20180804T005140Z
LAST-MODIFIED:20180804T005140Z
UID:10001220-1533718800-1533736800@sccrcolleges.org
SUMMARY:Southern California's Health Care Workforce: Challenges\, Approaches and Solutions
DESCRIPTION:Over the next five years\, Southern California will need to fill close to 150\,000 health care job openings. An evolving industry coupled with workforce requires that we think critically and strategically about ways to address impending workforce shortages. \nJoin the Hospital Association of Southern California (HASC) and FutureSense in partnership with the San Luis Obispo Santa Barbara and Ventura County Workforce Development Boards and the Health Workforce Initiative (HWI) to learn about their recent Health Care Sector Report. Explore the challenges\, approaches and solutions to recruit and develop a strong and skilled workforce. Register at: https://www.eventbrite.com/e/southern-californias-health-care-workforce-challenges-approaches-and-solutions-tickets-46770675349
URL:https://sccrcolleges.org/event/southern-californias-health-care-workforce-challenges-approaches-and-solutions/
LOCATION:Crowne Plaza Hotel Ventura Beach\, 450 E Harbor Blvd\, Ventura\, CA\, 93001\, United States
CATEGORIES:Regional Events
END:VEVENT
BEGIN:VEVENT
DTSTART;VALUE=DATE:20180806
DTEND;VALUE=DATE:20180807
DTSTAMP:20260422T092029
CREATED:20180806T004639Z
LAST-MODIFIED:20180806T004639Z
UID:10001277-1533513600-1533599999@sccrcolleges.org
SUMMARY:Javascript Training
DESCRIPTION:
URL:https://sccrcolleges.org/event/javascript-training/
LOCATION:Ventura College\, 4667 Telegraph Road\, Ventura\, CA\, 93003\, United States
CATEGORIES:Regional Events
END:VEVENT
BEGIN:VEVENT
DTSTART;TZID=America/Los_Angeles:20180720T123000
DTEND;TZID=America/Los_Angeles:20180720T140000
DTSTAMP:20260422T092029
CREATED:20180804T000904Z
LAST-MODIFIED:20180804T000904Z
UID:10001214-1532089800-1532095200@sccrcolleges.org
SUMMARY:SCCRC K12 SWP Governance Pilot Meeting
DESCRIPTION:SCCRC Regional Meetings DRAFT MINUTES for July 20\, 2018
URL:https://sccrcolleges.org/event/sccrc-k12-swp-governance-pilot-meeting/
LOCATION:Pierpont Inn\, 550 Sanjon Road\, Ventura\, CA\, 93001\, United States
CATEGORIES:SCCRC Meetings
END:VEVENT
BEGIN:VEVENT
DTSTART;TZID=America/Los_Angeles:20180720T103000
DTEND;TZID=America/Los_Angeles:20180720T120000
DTSTAMP:20260422T092029
CREATED:20180804T001927Z
LAST-MODIFIED:20180804T001927Z
UID:10001216-1532082600-1532088000@sccrcolleges.org
SUMMARY:SCCRC Regional Job Developers Meeting
DESCRIPTION:SCCRC Regional Meetings DRAFT MINUTES for July 20\, 2018
URL:https://sccrcolleges.org/event/sccrc-regional-job-developers-meeting/
LOCATION:Pierpont Inn\, 550 Sanjon Road\, Ventura\, CA\, 93001\, United States
CATEGORIES:SCCRC Meetings
END:VEVENT
BEGIN:VEVENT
DTSTART;TZID=America/Los_Angeles:20180720T090000
DTEND;TZID=America/Los_Angeles:20180720T103000
DTSTAMP:20260422T092029
CREATED:20180804T002019Z
LAST-MODIFIED:20190912T212140Z
UID:10001217-1532077200-1532082600@sccrcolleges.org
SUMMARY:SCCRC SWP Regional Meeting
DESCRIPTION:SCCRC Regional Meetings DRAFT MINUTES for July 20\, 2018
URL:https://sccrcolleges.org/event/sccrc-swp-regional-meeting-july-2018/
LOCATION:Pierpont Inn\, 550 Sanjon Road\, Ventura\, CA\, 93001\, United States
CATEGORIES:SCCRC Meetings
END:VEVENT
BEGIN:VEVENT
DTSTART;TZID=America/Los_Angeles:20180713T090000
DTEND;TZID=America/Los_Angeles:20180713T150000
DTSTAMP:20260422T092029
CREATED:20180805T234851Z
LAST-MODIFIED:20190912T212342Z
UID:10001261-1531472400-1531494000@sccrcolleges.org
SUMMARY:Fast Track CNC Machinist Training Program - Orientation & Testing
DESCRIPTION:Fast Track CNC Machinist Training Program Flyer
URL:https://sccrcolleges.org/event/fast-track-cnc-machinist-training-program-orientation-testing/
LOCATION:College of the Canyons\, 26455 Rockwell Canyon Rd\, Santa Clarita\, CA\, 91355\, United States
CATEGORIES:Regional Events
END:VEVENT
BEGIN:VEVENT
DTSTART;TZID=America/Los_Angeles:20180623T090000
DTEND;TZID=America/Los_Angeles:20180625T120000
DTSTAMP:20260422T092029
CREATED:20180805T235352Z
LAST-MODIFIED:20180805T235352Z
UID:10001262-1529744400-1529928000@sccrcolleges.org
SUMMARY:The 2018 Cyber California Challenge
DESCRIPTION:A Premier Cyber Arena\nThe CCI is excited to announce the launch of the 2018 California Cyber Innovation Challenge (CCIC)! The CCIC is a statewide high school cybersecurity competition designed to introduce more students to cybersecurity as a future course of study and career. \nWho can participate?\nThe CCIC is open to all California high schools and will begin with regional qualifying rounds in spring 2018. Sixteen teams from these regional qualifying rounds will participate in the state championship round on June 23-25 at the CCTC. \nWhat are the Challenges?\nWorking collaboratively as a digital forensics investigative team\, the students must collect and analyze a combination of digital and physical evidence in order to stop a health care themed cyber plot. Competitors will use state-of-the-art forensics tools to extract and collect digital evidence. Using a combination of technical\, analytical and persuasive skills\, each team must then “prove their case” to a panel of expert judges. During the health care network challenge\, young entrepreneurs and innovators will solve cybersecurity puzzles and challenges designed by Cyber Security Analysts and Cal Poly Professors. The health care network challenge will use the https://ctfd.io/about/ framework for the scoring. \nTo register\, click here. \nTo learn more\, visit cybercalifornia.biz or email gobiz.innovation@gov.ca.gov
URL:https://sccrcolleges.org/event/the-2018-cyber-california-challenge/
LOCATION:California Cyber Training Complex (CCTC)\, 10 Sonoma Ave\, San Luis Obispo\, CA\, 93405\, United States
CATEGORIES:Regional Events
END:VEVENT
BEGIN:VEVENT
DTSTART;TZID=America/Los_Angeles:20180618T090000
DTEND;TZID=America/Los_Angeles:20180623T170000
DTSTAMP:20260422T092029
CREATED:20180806T000702Z
LAST-MODIFIED:20180806T000702Z
UID:10001263-1529312400-1529773200@sccrcolleges.org
SUMMARY:Ethical Hacking & CompTIA PenTest+ at Coastline College\, Garden Grove\, CA
DESCRIPTION:Ethical Hacking & Comp TIA Penn Test +\nRegister Here
URL:https://sccrcolleges.org/event/ethical-hacking-comptia-pentest-at-coastline-college-garden-grove-ca/
CATEGORIES:Regional Events
END:VEVENT
BEGIN:VEVENT
DTSTART;TZID=America/Los_Angeles:20180618T080000
DTEND;TZID=America/Los_Angeles:20180619T170000
DTSTAMP:20260422T092029
CREATED:20180806T000938Z
LAST-MODIFIED:20180806T000938Z
UID:10001264-1529308800-1529427600@sccrcolleges.org
SUMMARY:NCCER Instructor Training
DESCRIPTION:This is a great opportunity to have Faculty and High School Teachers receive training. The National Center for Construction Education and Research (NCCER) offers more than 500 Industry recognized certifications in 70 different trades. \nThe Instructor Certification Training Program (ICTP) is part of the accreditation process. This program ensures the uniform and consistent delivery of training. Through this program\, NCCER certifies the Master Trainer\, who in turn certifies the local Craft Instructor. This network of certified instructors assures that NCCER training programs meet the standards of instruction set by the industry. \nFor information\, contact: Bill Elliot—Kern Community College District (661) 395-4109 welliott@kccd.edu \nNCCER Craft Instruction Certification Training.pdf
URL:https://sccrcolleges.org/event/nccer-instructor-training/
LOCATION:Camarillo or Oxnard College – TBD
CATEGORIES:Regional Events
END:VEVENT
BEGIN:VEVENT
DTSTART;TZID=America/Los_Angeles:20180612T083000
DTEND;TZID=America/Los_Angeles:20180612T233000
DTSTAMP:20260422T092029
CREATED:20180805T224954Z
LAST-MODIFIED:20180805T224954Z
UID:10001221-1528792200-1528846200@sccrcolleges.org
SUMMARY:SCCRC Business Mtg\, Cambria
DESCRIPTION:SCCRC Business Meeting DRAFT Minutes 6-12-18 \nSCCRC Regional Project Report-out – Cambria – 6-12-18
URL:https://sccrcolleges.org/event/sccrc-business-mtg-cambria/
CATEGORIES:SCCRC Meetings
END:VEVENT
BEGIN:VEVENT
DTSTART;TZID=America/Los_Angeles:20180611T090000
DTEND;TZID=America/Los_Angeles:20180615T170000
DTSTAMP:20260422T092029
CREATED:20180806T001211Z
LAST-MODIFIED:20180806T001211Z
UID:10001265-1528707600-1529082000@sccrcolleges.org
SUMMARY:CCNA Cyber Ops\, Instructor Training
DESCRIPTION:CCNA Cyber Ops\, Instructor Training\nRegister Here
URL:https://sccrcolleges.org/event/ccna-cyber-ops-instructor-training/
LOCATION:Cabrillo College\, 6500 Soquel Drive\, Aptos\, CA\, 95003\, United States
CATEGORIES:Regional Events
END:VEVENT
BEGIN:VEVENT
DTSTART;TZID=America/Los_Angeles:20180611T090000
DTEND;TZID=America/Los_Angeles:20180615T130000
DTSTAMP:20260422T092029
CREATED:20180806T001437Z
LAST-MODIFIED:20180806T001437Z
UID:10001136-1528707600-1529067600@sccrcolleges.org
SUMMARY:WASTC 2018 Faculty Development Week
DESCRIPTION:Connect with us for 5 days of Intensive ICT Educators’ Instructor Professional Development for ICT Educators’ and staff at Cabrillo College \nWORKSHOPS \nMore workshop descriptions will be coming soon. You may register for one workshop during this Faculty Development Week \n1. CCNA Introduction to Networks\, Instructor Training\n2. CCNA Cybersecurity Operations\, Instructor Training\n3. Palo Alto Networks Firewall 8.0 Essentials\n4. DevNet-Emerging Technologies 1 & 2\n5. Get Your Networking Mind Wrapped Around Python\n6. Cryptography and Blockchains\n7. CyberPatriot Camps-Train the Trainer\n8. CompTIA Cybersecurity Analyst (CySA+) Lessons and Labs \nFor more information
URL:https://sccrcolleges.org/event/wastc-2018-faculty-development-week/
LOCATION:Cabrillo College\, 6500 Soquel Drive\, Aptos\, CA\, 95003\, United States
CATEGORIES:Regional Events
END:VEVENT
BEGIN:VEVENT
DTSTART;TZID=America/Los_Angeles:20180610T130000
DTEND;TZID=America/Los_Angeles:20180612T170000
DTSTAMP:20260422T092029
CREATED:20180805T225905Z
LAST-MODIFIED:20190913T013101Z
UID:10001222-1528635600-1528822800@sccrcolleges.org
SUMMARY:Jun 2018 SCCRC Annual Regional Planning Retreat
DESCRIPTION:SCCRC Annual Planning Meeting DRAFT Minutes 6-11-18 \nCambria 2018 Planning Meeting Handouts \n\nRegional Planning Framework DRAFT\nSCCRC SWP Regional Spending Plan DRAFT\nSCCRC Governance Structure\nSuggested Change in Steering Committee Makeup\nProposition 39 Clean Energy Workforce – Handout\nEnergy\, Constr\, Util Report June 2018.pdf\nPlacement Project Specialist Report – May 2018 – Oxnard College/ VCCCD\nAssessment of Prior Learning Project\nRegional Flyer L.A.\nTop 10 Reasons Why Flyer\nSCCRC Annual Planning Mtg in Cambria – Participant List
URL:https://sccrcolleges.org/event/jun-2018-sccrc-annual-regional-planning-retreat/
LOCATION:Cambria Pines Lodge\, 2905 Burton Drive\, Cambria\, CA\, 93428\, United States
CATEGORIES:SCCRC Meetings
END:VEVENT
BEGIN:VEVENT
DTSTART;TZID=America/Los_Angeles:20180610T120000
DTEND;TZID=America/Los_Angeles:20180610T160000
DTSTAMP:20260422T092029
CREATED:20180805T230020Z
LAST-MODIFIED:20180805T230020Z
UID:10001223-1528632000-1528646400@sccrcolleges.org
SUMMARY:SCCRC Steering Committee Mtg\, Cambria
DESCRIPTION:SCCRC Steering Committee DRAFT Minutes 6-10-18
URL:https://sccrcolleges.org/event/sccrc-steering-committee-mtg-cambria/
CATEGORIES:SCCRC Meetings
END:VEVENT
BEGIN:VEVENT
DTSTART;VALUE=DATE:20180607
DTEND;VALUE=DATE:20180609
DTSTAMP:20260422T092029
CREATED:20180806T001533Z
LAST-MODIFIED:20180806T001533Z
UID:10001137-1528329600-1528502399@sccrcolleges.org
SUMMARY:Digital Media Educators Conference
DESCRIPTION:This is a special event for Information and Communication Technologies and Digital Media Faculty and Business Faculty. This year we are including a look at the ever increasing role of freelance in the digital media world. Understanding the power of digital media in the business world opens new vistas of innovation\, opportunity and success for our students. We are setting up a great lineup of speakers and tracks to help you keep up with the ever changing world of digital media and business.
URL:https://sccrcolleges.org/event/digital-media-educators-conference/
LOCATION:College of the Canyons\, 26455 Rockwell Canyon Rd\, Santa Clarita\, CA\, 91355\, United States
CATEGORIES:Regional Events
END:VEVENT
END:VCALENDAR