BEGIN:VCALENDAR
VERSION:2.0
PRODID:-//South Central Coast Regional Consortium - ECPv6.15.20//NONSGML v1.0//EN
CALSCALE:GREGORIAN
METHOD:PUBLISH
X-WR-CALNAME:South Central Coast Regional Consortium
X-ORIGINAL-URL:https://sccrcolleges.org
X-WR-CALDESC:Events for South Central Coast Regional Consortium
REFRESH-INTERVAL;VALUE=DURATION:PT1H
X-Robots-Tag:noindex
X-PUBLISHED-TTL:PT1H
BEGIN:VTIMEZONE
TZID:America/Los_Angeles
BEGIN:DAYLIGHT
TZOFFSETFROM:-0800
TZOFFSETTO:-0700
TZNAME:PDT
DTSTART:20230312T100000
END:DAYLIGHT
BEGIN:STANDARD
TZOFFSETFROM:-0700
TZOFFSETTO:-0800
TZNAME:PST
DTSTART:20231105T090000
END:STANDARD
BEGIN:DAYLIGHT
TZOFFSETFROM:-0800
TZOFFSETTO:-0700
TZNAME:PDT
DTSTART:20240310T100000
END:DAYLIGHT
BEGIN:STANDARD
TZOFFSETFROM:-0700
TZOFFSETTO:-0800
TZNAME:PST
DTSTART:20241103T090000
END:STANDARD
BEGIN:DAYLIGHT
TZOFFSETFROM:-0800
TZOFFSETTO:-0700
TZNAME:PDT
DTSTART:20250309T100000
END:DAYLIGHT
BEGIN:STANDARD
TZOFFSETFROM:-0700
TZOFFSETTO:-0800
TZNAME:PST
DTSTART:20251102T090000
END:STANDARD
BEGIN:DAYLIGHT
TZOFFSETFROM:-0800
TZOFFSETTO:-0700
TZNAME:PDT
DTSTART:20260308T100000
END:DAYLIGHT
BEGIN:STANDARD
TZOFFSETFROM:-0700
TZOFFSETTO:-0800
TZNAME:PST
DTSTART:20261101T090000
END:STANDARD
END:VTIMEZONE
BEGIN:VEVENT
DTSTART;TZID=America/Los_Angeles:20240228T183000
DTEND;TZID=America/Los_Angeles:20240228T193000
DTSTAMP:20260425T070059
CREATED:20240223T203551Z
LAST-MODIFIED:20240223T203948Z
UID:10001452-1709145000-1709148600@sccrcolleges.org
SUMMARY:Mindfulness for the Workplace - for CTE Educators
DESCRIPTION:Supporting our community of CTE Educators is critical for student success.  Join us for weekly professional development to discover a variety of Mindfulness tools that encourage your well-being as professionals.  Learn skills for reflective practices\, stress management\, and understanding various perspectives.  \nRegister HERE for the weekly link and drop in whenever you can. \nWEDNESDAYS through June 26th  6:30pm – 7:30pm \nREGISTER HERE \nSee flyer here
URL:https://sccrcolleges.org/event/9569/
LOCATION:Online Meeting
CATEGORIES:Regional Events
END:VEVENT
BEGIN:VEVENT
DTSTART;TZID=America/Los_Angeles:20240306T183000
DTEND;TZID=America/Los_Angeles:20240306T193000
DTSTAMP:20260425T070059
CREATED:20240223T204138Z
LAST-MODIFIED:20240223T204138Z
UID:10001453-1709749800-1709753400@sccrcolleges.org
SUMMARY:Mindfulness for the Workplace - for CTE Educators
DESCRIPTION:Supporting our community of CTE Educators is critical for student success.  Join us for weekly professional development to discover a variety of Mindfulness tools that encourage your well-being as professionals.  Learn skills for reflective practices\, stress management\, and understanding various perspectives.  \nRegister HERE for the weekly link and drop in whenever you can. \nWEDNESDAYS through June 26th  6:30pm – 7:30pm \nREGISTER HERE \nSee flyer here
URL:https://sccrcolleges.org/event/mindfulness-for-the-workplace-for-cte-educators/
LOCATION:Online Meeting
CATEGORIES:Regional Events
END:VEVENT
BEGIN:VEVENT
DTSTART;TZID=America/Los_Angeles:20240312T090000
DTEND;TZID=America/Los_Angeles:20240312T100000
DTSTAMP:20260425T070059
CREATED:20230721T210033Z
LAST-MODIFIED:20230721T210057Z
UID:10001443-1710234000-1710237600@sccrcolleges.org
SUMMARY:SCCRC K12 Strong Workforce Program Meeting
DESCRIPTION:Facilitated by Dr. Giselle Bice\, K14 Technical Assistance Provider \nZoom link: https://canyonsonline.zoom.us/j/5100655146  Mtg ID#510 065 5146 \n2024 Dates\nFeb 20\nMarch 12\nApril 16\nMay 21\nJune 11
URL:https://sccrcolleges.org/event/sccrc-k12-strong-workforce-program-meeting-7/
LOCATION:Online Meeting
CATEGORIES:SCCRC Meetings
END:VEVENT
BEGIN:VEVENT
DTSTART;TZID=America/Los_Angeles:20240313T183000
DTEND;TZID=America/Los_Angeles:20240313T193000
DTSTAMP:20260425T070059
CREATED:20240223T204219Z
LAST-MODIFIED:20240223T204219Z
UID:10001454-1710354600-1710358200@sccrcolleges.org
SUMMARY:Mindfulness for the Workplace - for CTE Educators
DESCRIPTION:Supporting our community of CTE Educators is critical for student success.  Join us for weekly professional development to discover a variety of Mindfulness tools that encourage your well-being as professionals.  Learn skills for reflective practices\, stress management\, and understanding various perspectives.  \nRegister HERE for the weekly link and drop in whenever you can. \nWEDNESDAYS through June 26th  6:30pm – 7:30pm \nREGISTER HERE \nSee flyer here
URL:https://sccrcolleges.org/event/mindfulness-for-the-workplace-for-cte-educators-2/
LOCATION:Online Meeting
CATEGORIES:Regional Events
END:VEVENT
BEGIN:VEVENT
DTSTART;TZID=America/Los_Angeles:20240315T090000
DTEND;TZID=America/Los_Angeles:20240315T103000
DTSTAMP:20260425T070059
CREATED:20230614T202452Z
LAST-MODIFIED:20240426T225347Z
UID:10001430-1710493200-1710498600@sccrcolleges.org
SUMMARY:SCCRC Regional Meeting
DESCRIPTION:Zoom Recording of this Meeting \nMinutes for this Regional Meeting 3-15-24 \nFiscal Agent Director PPT slide \nCollege Showcase: Ventura College Ag and Vet Tech Programs Presentation – Dorothy Farias \nCollege Showcase: Public Health Informatics & Technology (SBCC) – David Gatewood\, with Charles Daramola and Celine Park \nCCCAOE Handout “Basket Announcement” \nPerkins Qualifying Occupations– Laura Coleman \nWEDD March 2024 Update from Katie Gilks \nAttendee List \n  \n 
URL:https://sccrcolleges.org/event/sccrc-regional-meeting-26/
LOCATION:Online Meeting
CATEGORIES:SCCRC Meetings
END:VEVENT
BEGIN:VEVENT
DTSTART;TZID=America/Los_Angeles:20240320T183000
DTEND;TZID=America/Los_Angeles:20240320T193000
DTSTAMP:20260425T070059
CREATED:20240223T204245Z
LAST-MODIFIED:20240223T204245Z
UID:10001455-1710959400-1710963000@sccrcolleges.org
SUMMARY:Mindfulness for the Workplace - for CTE Educators
DESCRIPTION:Supporting our community of CTE Educators is critical for student success.  Join us for weekly professional development to discover a variety of Mindfulness tools that encourage your well-being as professionals.  Learn skills for reflective practices\, stress management\, and understanding various perspectives.  \nRegister HERE for the weekly link and drop in whenever you can. \nWEDNESDAYS through June 26th  6:30pm – 7:30pm \nREGISTER HERE \nSee flyer here
URL:https://sccrcolleges.org/event/mindfulness-for-the-workplace-for-cte-educators-3/
LOCATION:Online Meeting
CATEGORIES:Regional Events
END:VEVENT
BEGIN:VEVENT
DTSTART;TZID=America/Los_Angeles:20240327T183000
DTEND;TZID=America/Los_Angeles:20240327T193000
DTSTAMP:20260425T070059
CREATED:20240223T204311Z
LAST-MODIFIED:20240223T204311Z
UID:10001456-1711564200-1711567800@sccrcolleges.org
SUMMARY:Mindfulness for the Workplace - for CTE Educators
DESCRIPTION:Supporting our community of CTE Educators is critical for student success.  Join us for weekly professional development to discover a variety of Mindfulness tools that encourage your well-being as professionals.  Learn skills for reflective practices\, stress management\, and understanding various perspectives.  \nRegister HERE for the weekly link and drop in whenever you can. \nWEDNESDAYS through June 26th  6:30pm – 7:30pm \nREGISTER HERE \nSee flyer here
URL:https://sccrcolleges.org/event/mindfulness-for-the-workplace-for-cte-educators-4/
LOCATION:Online Meeting
CATEGORIES:Regional Events
END:VEVENT
BEGIN:VEVENT
DTSTART;TZID=America/Los_Angeles:20240403T183000
DTEND;TZID=America/Los_Angeles:20240403T193000
DTSTAMP:20260425T070059
CREATED:20240223T204531Z
LAST-MODIFIED:20240223T204531Z
UID:10001457-1712169000-1712172600@sccrcolleges.org
SUMMARY:Mindfulness for the Workplace - for CTE Educators
DESCRIPTION:Supporting our community of CTE Educators is critical for student success.  Join us for weekly professional development to discover a variety of Mindfulness tools that encourage your well-being as professionals.  Learn skills for reflective practices\, stress management\, and understanding various perspectives.  \nRegister HERE for the weekly link and drop in whenever you can. \nWEDNESDAYS through June 26th  6:30pm – 7:30pm \nREGISTER HERE \nSee flyer here
URL:https://sccrcolleges.org/event/mindfulness-for-the-workplace-for-cte-educators-5/
LOCATION:Online Meeting
CATEGORIES:Regional Events
END:VEVENT
BEGIN:VEVENT
DTSTART;TZID=America/Los_Angeles:20240410T183000
DTEND;TZID=America/Los_Angeles:20240410T193000
DTSTAMP:20260425T070059
CREATED:20240223T204559Z
LAST-MODIFIED:20240223T204559Z
UID:10001458-1712773800-1712777400@sccrcolleges.org
SUMMARY:Mindfulness for the Workplace - for CTE Educators
DESCRIPTION:Supporting our community of CTE Educators is critical for student success.  Join us for weekly professional development to discover a variety of Mindfulness tools that encourage your well-being as professionals.  Learn skills for reflective practices\, stress management\, and understanding various perspectives.  \nRegister HERE for the weekly link and drop in whenever you can. \nWEDNESDAYS through June 26th  6:30pm – 7:30pm \nREGISTER HERE \nSee flyer here
URL:https://sccrcolleges.org/event/mindfulness-for-the-workplace-for-cte-educators-6/
LOCATION:Online Meeting
CATEGORIES:Regional Events
END:VEVENT
BEGIN:VEVENT
DTSTART;TZID=America/Los_Angeles:20240416T090000
DTEND;TZID=America/Los_Angeles:20240416T100000
DTSTAMP:20260425T070059
CREATED:20230721T210147Z
LAST-MODIFIED:20230721T210147Z
UID:10001444-1713258000-1713261600@sccrcolleges.org
SUMMARY:SCCRC K12 Strong Workforce Program Meeting
DESCRIPTION:Facilitated by Dr. Giselle Bice\, K14 Technical Assistance Provider \nZoom link: https://canyonsonline.zoom.us/j/5100655146  Mtg ID#510 065 5146 \n2024 Dates\nApril 16\nMay 21\nJune 11
URL:https://sccrcolleges.org/event/sccrc-k12-strong-workforce-program-meeting-8/
LOCATION:Online Meeting
CATEGORIES:SCCRC Meetings
END:VEVENT
BEGIN:VEVENT
DTSTART;TZID=America/Los_Angeles:20240417T183000
DTEND;TZID=America/Los_Angeles:20240417T193000
DTSTAMP:20260425T070059
CREATED:20240223T210659Z
LAST-MODIFIED:20240223T210659Z
UID:10001459-1713378600-1713382200@sccrcolleges.org
SUMMARY:Mindfulness for the Workplace - for CTE Educators
DESCRIPTION:Supporting our community of CTE Educators is critical for student success.  Join us for weekly professional development to discover a variety of Mindfulness tools that encourage your well-being as professionals.  Learn skills for reflective practices\, stress management\, and understanding various perspectives.  \nRegister HERE for the weekly link and drop in whenever you can. \nWEDNESDAYS through June 26th  6:30pm – 7:30pm \nREGISTER HERE \nSee flyer here
URL:https://sccrcolleges.org/event/mindfulness-for-the-workplace-for-cte-educators-7/
LOCATION:Online Meeting
CATEGORIES:Regional Events
END:VEVENT
BEGIN:VEVENT
DTSTART;TZID=America/Los_Angeles:20240424T090000
DTEND;TZID=America/Los_Angeles:20240424T103000
DTSTAMP:20260425T070059
CREATED:20230614T202540Z
LAST-MODIFIED:20240507T014547Z
UID:10001431-1713949200-1713954600@sccrcolleges.org
SUMMARY:SCCRC Regional Meeting at CCCAOE
DESCRIPTION:SCCRC Regional Meeting Minutes 4-24-24 \nSpring 2024 CCCAOE Regional Update \nSCCRC Executive Director PPT \nAttendee List 4-24-24 \n 
URL:https://sccrcolleges.org/event/sccrc-regional-meeting-at-cccaoe-3/
LOCATION:Hyatt Regency Sacramento\, 1209 L Street\, Sacramento\, CA\, 95814\, United States
CATEGORIES:SCCRC Meetings
END:VEVENT
BEGIN:VEVENT
DTSTART;TZID=America/Los_Angeles:20240424T183000
DTEND;TZID=America/Los_Angeles:20240424T193000
DTSTAMP:20260425T070059
CREATED:20240223T210727Z
LAST-MODIFIED:20240223T210727Z
UID:10001460-1713983400-1713987000@sccrcolleges.org
SUMMARY:Mindfulness for the Workplace - for CTE Educators
DESCRIPTION:Supporting our community of CTE Educators is critical for student success.  Join us for weekly professional development to discover a variety of Mindfulness tools that encourage your well-being as professionals.  Learn skills for reflective practices\, stress management\, and understanding various perspectives.  \nRegister HERE for the weekly link and drop in whenever you can. \nWEDNESDAYS through June 26th  6:30pm – 7:30pm \nREGISTER HERE \nSee flyer here
URL:https://sccrcolleges.org/event/mindfulness-for-the-workplace-for-cte-educators-8/
LOCATION:Online Meeting
CATEGORIES:Regional Events
END:VEVENT
BEGIN:VEVENT
DTSTART;TZID=America/Los_Angeles:20240501T183000
DTEND;TZID=America/Los_Angeles:20240501T193000
DTSTAMP:20260425T070059
CREATED:20240223T210750Z
LAST-MODIFIED:20240223T210750Z
UID:10001461-1714588200-1714591800@sccrcolleges.org
SUMMARY:Mindfulness for the Workplace - for CTE Educators
DESCRIPTION:Supporting our community of CTE Educators is critical for student success.  Join us for weekly professional development to discover a variety of Mindfulness tools that encourage your well-being as professionals.  Learn skills for reflective practices\, stress management\, and understanding various perspectives.  \nRegister HERE for the weekly link and drop in whenever you can. \nWEDNESDAYS through June 26th  6:30pm – 7:30pm \nREGISTER HERE \nSee flyer here
URL:https://sccrcolleges.org/event/mindfulness-for-the-workplace-for-cte-educators-9/
LOCATION:Online Meeting
CATEGORIES:Regional Events
END:VEVENT
BEGIN:VEVENT
DTSTART;TZID=America/Los_Angeles:20240508T183000
DTEND;TZID=America/Los_Angeles:20240508T193000
DTSTAMP:20260425T070059
CREATED:20240223T210806Z
LAST-MODIFIED:20240223T210806Z
UID:10001462-1715193000-1715196600@sccrcolleges.org
SUMMARY:Mindfulness for the Workplace - for CTE Educators
DESCRIPTION:Supporting our community of CTE Educators is critical for student success.  Join us for weekly professional development to discover a variety of Mindfulness tools that encourage your well-being as professionals.  Learn skills for reflective practices\, stress management\, and understanding various perspectives.  \nRegister HERE for the weekly link and drop in whenever you can. \nWEDNESDAYS through June 26th  6:30pm – 7:30pm \nREGISTER HERE \nSee flyer here
URL:https://sccrcolleges.org/event/mindfulness-for-the-workplace-for-cte-educators-10/
LOCATION:Online Meeting
CATEGORIES:Regional Events
END:VEVENT
BEGIN:VEVENT
DTSTART;TZID=America/Los_Angeles:20240515T183000
DTEND;TZID=America/Los_Angeles:20240515T193000
DTSTAMP:20260425T070059
CREATED:20240223T210822Z
LAST-MODIFIED:20240223T210822Z
UID:10001463-1715797800-1715801400@sccrcolleges.org
SUMMARY:Mindfulness for the Workplace - for CTE Educators
DESCRIPTION:Supporting our community of CTE Educators is critical for student success.  Join us for weekly professional development to discover a variety of Mindfulness tools that encourage your well-being as professionals.  Learn skills for reflective practices\, stress management\, and understanding various perspectives.  \nRegister HERE for the weekly link and drop in whenever you can. \nWEDNESDAYS through June 26th  6:30pm – 7:30pm \nREGISTER HERE \nSee flyer here
URL:https://sccrcolleges.org/event/mindfulness-for-the-workplace-for-cte-educators-11/
LOCATION:Online Meeting
CATEGORIES:Regional Events
END:VEVENT
BEGIN:VEVENT
DTSTART;TZID=America/Los_Angeles:20240521T090000
DTEND;TZID=America/Los_Angeles:20240521T100000
DTSTAMP:20260425T070059
CREATED:20230721T210236Z
LAST-MODIFIED:20230721T210236Z
UID:10001445-1716282000-1716285600@sccrcolleges.org
SUMMARY:SCCRC K12 Strong Workforce Program Meeting
DESCRIPTION:Facilitated by Dr. Giselle Bice\, K14 Technical Assistance Provider \nZoom link: https://canyonsonline.zoom.us/j/5100655146  Mtg ID#510 065 5146 \n2024 Dates\nMay 21\nJune 11
URL:https://sccrcolleges.org/event/sccrc-k12-strong-workforce-program-meeting-9/
LOCATION:Online Meeting
CATEGORIES:SCCRC Meetings
END:VEVENT
BEGIN:VEVENT
DTSTART;TZID=America/Los_Angeles:20240522T183000
DTEND;TZID=America/Los_Angeles:20240522T193000
DTSTAMP:20260425T070059
CREATED:20240223T210838Z
LAST-MODIFIED:20240223T210838Z
UID:10001464-1716402600-1716406200@sccrcolleges.org
SUMMARY:Mindfulness for the Workplace - for CTE Educators
DESCRIPTION:Supporting our community of CTE Educators is critical for student success.  Join us for weekly professional development to discover a variety of Mindfulness tools that encourage your well-being as professionals.  Learn skills for reflective practices\, stress management\, and understanding various perspectives.  \nRegister HERE for the weekly link and drop in whenever you can. \nWEDNESDAYS through June 26th  6:30pm – 7:30pm \nREGISTER HERE \nSee flyer here
URL:https://sccrcolleges.org/event/mindfulness-for-the-workplace-for-cte-educators-12/
LOCATION:Online Meeting
CATEGORIES:Regional Events
END:VEVENT
BEGIN:VEVENT
DTSTART;TZID=America/Los_Angeles:20240524T090000
DTEND;TZID=America/Los_Angeles:20240524T110000
DTSTAMP:20260425T070059
CREATED:20230614T202608Z
LAST-MODIFIED:20240514T171657Z
UID:10001432-1716541200-1716548400@sccrcolleges.org
SUMMARY:SCCRC Regional Meeting - Postponed until June 14th
DESCRIPTION:We’ll send out a Memo with regional updates in lieu of this month’s meeting.
URL:https://sccrcolleges.org/event/sccrc-regional-meeting-27/
LOCATION:Online Meeting
CATEGORIES:SCCRC Meetings
END:VEVENT
BEGIN:VEVENT
DTSTART;TZID=America/Los_Angeles:20240529T183000
DTEND;TZID=America/Los_Angeles:20240529T193000
DTSTAMP:20260425T070059
CREATED:20240223T210852Z
LAST-MODIFIED:20240223T210852Z
UID:10001465-1717007400-1717011000@sccrcolleges.org
SUMMARY:Mindfulness for the Workplace - for CTE Educators
DESCRIPTION:Supporting our community of CTE Educators is critical for student success.  Join us for weekly professional development to discover a variety of Mindfulness tools that encourage your well-being as professionals.  Learn skills for reflective practices\, stress management\, and understanding various perspectives.  \nRegister HERE for the weekly link and drop in whenever you can. \nWEDNESDAYS through June 26th  6:30pm – 7:30pm \nREGISTER HERE \nSee flyer here
URL:https://sccrcolleges.org/event/mindfulness-for-the-workplace-for-cte-educators-13/
LOCATION:Online Meeting
CATEGORIES:Regional Events
END:VEVENT
BEGIN:VEVENT
DTSTART;TZID=America/Los_Angeles:20240605T183000
DTEND;TZID=America/Los_Angeles:20240605T193000
DTSTAMP:20260425T070059
CREATED:20240223T210907Z
LAST-MODIFIED:20240223T210907Z
UID:10001466-1717612200-1717615800@sccrcolleges.org
SUMMARY:Mindfulness for the Workplace - for CTE Educators
DESCRIPTION:Supporting our community of CTE Educators is critical for student success.  Join us for weekly professional development to discover a variety of Mindfulness tools that encourage your well-being as professionals.  Learn skills for reflective practices\, stress management\, and understanding various perspectives.  \nRegister HERE for the weekly link and drop in whenever you can. \nWEDNESDAYS through June 26th  6:30pm – 7:30pm \nREGISTER HERE \nSee flyer here
URL:https://sccrcolleges.org/event/mindfulness-for-the-workplace-for-cte-educators-14/
LOCATION:Online Meeting
CATEGORIES:Regional Events
END:VEVENT
BEGIN:VEVENT
DTSTART;TZID=America/Los_Angeles:20240611T090000
DTEND;TZID=America/Los_Angeles:20240611T100000
DTSTAMP:20260425T070059
CREATED:20230721T210314Z
LAST-MODIFIED:20230721T210314Z
UID:10001446-1718096400-1718100000@sccrcolleges.org
SUMMARY:SCCRC K12 Strong Workforce Program Meeting
DESCRIPTION:Facilitated by Dr. Giselle Bice\, K14 Technical Assistance Provider \nZoom link: https://canyonsonline.zoom.us/j/5100655146  Mtg ID#510 065 5146 \n2024 Dates\nJune 11
URL:https://sccrcolleges.org/event/sccrc-k12-strong-workforce-program-meeting-10/
LOCATION:Online Meeting
CATEGORIES:SCCRC Meetings
END:VEVENT
BEGIN:VEVENT
DTSTART;TZID=America/Los_Angeles:20240614T090000
DTEND;TZID=America/Los_Angeles:20240614T110000
DTSTAMP:20260425T070059
CREATED:20230614T202715Z
LAST-MODIFIED:20240626T185715Z
UID:10001433-1718355600-1718362800@sccrcolleges.org
SUMMARY:SCCRC Regional Meeting
DESCRIPTION:SCCRC Regional Meeting Minutes 6-14-24 \nRecording of this meeting \nExecutive Director’s Update \nSCCRC Community College SWP Update from Fiscal Agent Director \nPresentations: \nThe Advanced Technology Center Overview – Justin Wallace\, College of the Canyons \nArtificial Intelligence Initiative– Craig Hayward\, Chancellor’s Office (Coming soon) \nChancellor’s Office Consultation Council Update – Robert Cabral\, Moorpark College \nMeeting Attendee List \n  \n 
URL:https://sccrcolleges.org/event/sccrc-regional-meeting-28/
LOCATION:Online Meeting
CATEGORIES:SCCRC Meetings
END:VEVENT
BEGIN:VEVENT
DTSTART;TZID=America/Los_Angeles:20240719T090000
DTEND;TZID=America/Los_Angeles:20240719T110000
DTSTAMP:20260425T070059
CREATED:20240513T201828Z
LAST-MODIFIED:20240729T205057Z
UID:10001471-1721379600-1721386800@sccrcolleges.org
SUMMARY:SCCRC Regional Meeting
DESCRIPTION:SCCRC Regional Meeting Minutes 7-19-24 \nZoom Video Recording of this meeting \nExecutive Director’s Regional Consortium slides \nSCCRC Fiscal Agent Report- Luann Swanberg \nK12 SWP Slides – Giselle Bice           Tentative K12 SWP Round 7 Timeline \nCCCAOE Board Summary – Michael Hoffman \nSBCC’s BS Program in Health Information Management – Alan Price \nHigh Road Training Partnership Presentation – Holly Nolan Chavez \nFederal Policy and Advocacy Update- Robert Cabral \nState Policy and Advocacy Update- Robert Cabral \nSBCC Blue Economy Save the Date Flyer \nAttendee List 7-19-24
URL:https://sccrcolleges.org/event/sccrc-regional-meeting-29/
LOCATION:Online Meeting
CATEGORIES:SCCRC Meetings
END:VEVENT
BEGIN:VEVENT
DTSTART;TZID=America/Los_Angeles:20240823T090000
DTEND;TZID=America/Los_Angeles:20240823T110000
DTSTAMP:20260425T070059
CREATED:20240513T201904Z
LAST-MODIFIED:20240913T200704Z
UID:10001472-1724403600-1724410800@sccrcolleges.org
SUMMARY:SCCRC Regional Meeting
DESCRIPTION:SCCRC Regional Meeting Minutes \nZoom Recording of this meeting \nSCCRC Executive Director’s Regional Consortium Slides \nSCCRC Fiscal Agent Report \nPresentation: Teacher Resource & Education Center (T-Recs) for Students at Ventura College PPT Slides \nCCCAOE Board Report  8-15-24 \nFederal Policy & Advocacy Update 7-31-24 \nState Policy & Advocacy Update 7-31-24 \nMaster Plan for Career Education (Preliminary Concepts) – Kickoff Webinar PPT 1-24-24 \nProposed Revisions to Title 5\, California Code of Regulations Relating to Burden-Free Access to Instructional Materials (First Reading) \nProposed Revisions to Title 5\, California Code of Regulations Relating to the Mathematics\, Engineering\, Science Achievement (MESA) Program (First Reading) \nSCCRC Regional Meeting Attendee List 8-23-24
URL:https://sccrcolleges.org/event/sccrc-regional-meeting-30/
LOCATION:Online Meeting
CATEGORIES:SCCRC Meetings
END:VEVENT
BEGIN:VEVENT
DTSTART;TZID=America/Los_Angeles:20240927T090000
DTEND;TZID=America/Los_Angeles:20240927T110000
DTSTAMP:20260425T070059
CREATED:20240513T201932Z
LAST-MODIFIED:20241011T212624Z
UID:10001473-1727427600-1727434800@sccrcolleges.org
SUMMARY:SCCRC Regional Meeting
DESCRIPTION:Zoom Recording of this meeting \nSCCRC Regional Meeting Minutes 9-27-24 \nSCCRC Executive Director’s PPT \nChancellor’s Office Regional Monitor Update Sept 2024 \nFiscal Agent Director Update 9-27-24 \nPresentation slides: HVAC US Department of Energy community college and industry pilot project \nChancellor’s Office Consultation Council – Handouts \nCCCAOE Regional Vice President Report         CCCAOE Fall Raffle Basket flyer \nAttendee List
URL:https://sccrcolleges.org/event/sccrc-regional-meeting-31/
LOCATION:Online Meeting
CATEGORIES:SCCRC Meetings
END:VEVENT
BEGIN:VEVENT
DTSTART;TZID=America/Los_Angeles:20241023T103000
DTEND;TZID=America/Los_Angeles:20241023T114500
DTSTAMP:20260425T070059
CREATED:20240513T202016Z
LAST-MODIFIED:20241031T174330Z
UID:10001474-1729679400-1729683900@sccrcolleges.org
SUMMARY:SCCRC Regional Meeting at CCCAOE
DESCRIPTION:SCCRC Regional Meeting at CCCAOE  October 23\, 2024 – Minutes/Notes \nSCCRC Regional Meeting Executive Director Update \nSCCRC Regional Meeting Fiscal Agent Director Update \nCCCAOE Update slides \nAttendee List 10-23-24
URL:https://sccrcolleges.org/event/sccrc-regional-meeting-at-cccaoe-4/
LOCATION:Omni Rancho Las Palmas (In-person only)\, 41000 Bob Hope Drive\, Rancho Mirage\, CA\, 92270\, United States
CATEGORIES:SCCRC Meetings
END:VEVENT
BEGIN:VEVENT
DTSTART;TZID=America/Los_Angeles:20241115T090000
DTEND;TZID=America/Los_Angeles:20241115T110000
DTSTAMP:20260425T070059
CREATED:20240513T202052Z
LAST-MODIFIED:20241123T000236Z
UID:10001475-1731661200-1731668400@sccrcolleges.org
SUMMARY:SCCRC Regional Meeting
DESCRIPTION:Zoom Recording of this meeting \nSCCRC Regional Meeting Minutes 11-15-24 \nExecutive Director’s Update \nChancellor’s Office Regional Monitor Update – November 2024 \nFiscal Agent Director’s Update      Chancellor’s Office presentation: Strong Workforce Program Overview \nPresentation: Noncredit to Credit Transitions – Amertah Perman\, Dean\, Career Education & Workforce Development\, San Diego Community College District \nPresentation: Central California Industrial Training & Assessment Center Project – David Teasdale\, Executive Director\, Economic Development & Corporate Training & the 21st Century Energy Center\, Kern Community College District \nCCCAOE Regional VP Update \nAttendee List
URL:https://sccrcolleges.org/event/sccrc-regional-meeting-32/
LOCATION:Online Meeting
CATEGORIES:SCCRC Meetings
END:VEVENT
BEGIN:VEVENT
DTSTART;TZID=America/Los_Angeles:20250124T093000
DTEND;TZID=America/Los_Angeles:20250124T140000
DTSTAMP:20260425T070059
CREATED:20241011T203500Z
LAST-MODIFIED:20250221T211657Z
UID:10001477-1737711000-1737727200@sccrcolleges.org
SUMMARY:SCCRC Regional Meeting: In-Person (and remote) at Allan Hancock College
DESCRIPTION:SCCRC Meeting Minutes 1-24-25 \nZoom Recording of this meeting \nExecutive Director Update – Holly Nolan Chavez \nChancellor’s Office Regional Monitor January 2025 Update– Katie Gilks \nK12 SWP Update “Understanding SCCRC K12 SWP in Rounds 3-5” – Dr. Giselle Bice \nUnderstanding K12 SWP Statewide Analysis\, Rounds 3-5 \nSCCRC Fiscal Agent Update – Luann Swanberg \nFLYER: Pathways to Success – Early College & Employer Engagement – March 4\, 2025  4:00-8:00PM \nChancellor’s Office Consultation Council – Robert Cabral \nCCCAOE Update – Michael Hoffman \nAttendee List 1-24-25 \n 
URL:https://sccrcolleges.org/event/sccrc-regional-meeting-in-person-at-allan-hancock-college/
LOCATION:Allan Hancock College\, 800 S. College Drive\, Santa Maria\, CA\, 93454\, United States
CATEGORIES:SCCRC Meetings
END:VEVENT
BEGIN:VEVENT
DTSTART;TZID=America/Los_Angeles:20250221T090000
DTEND;TZID=America/Los_Angeles:20250221T110000
DTSTAMP:20260425T070059
CREATED:20241031T191843Z
LAST-MODIFIED:20250225T000018Z
UID:10001480-1740128400-1740135600@sccrcolleges.org
SUMMARY:SCCRC Regional Meeting (Zoom)
DESCRIPTION:SCCRC Regional Meeting Zoom Recording \nSCCRC Regional Meeting Minutes 2-21-25 \nExecutive Director’s Update – Holly Nolan Chavez \nFiscal Agent Update – Luann Swanberg \nCertified Wellness Coach Profession HCAI Designated Education Program Development \nEligibility Training Provider List – Lora Jorgensen \nChancellor’s Office Consultation Council – Robert Cabral \nCCCAOE Regional VP Report– Michael Hoffman \nSCCRC Meeting Attendees 2-21-25
URL:https://sccrcolleges.org/event/sccrc-regional-meeting-35/
LOCATION:Online Meeting
CATEGORIES:SCCRC Meetings
END:VEVENT
END:VCALENDAR