BEGIN:VCALENDAR
VERSION:2.0
PRODID:-//South Central Coast Regional Consortium - ECPv6.15.20//NONSGML v1.0//EN
CALSCALE:GREGORIAN
METHOD:PUBLISH
X-ORIGINAL-URL:https://sccrcolleges.org
X-WR-CALDESC:Events for South Central Coast Regional Consortium
REFRESH-INTERVAL;VALUE=DURATION:PT1H
X-Robots-Tag:noindex
X-PUBLISHED-TTL:PT1H
BEGIN:VTIMEZONE
TZID:America/Los_Angeles
BEGIN:DAYLIGHT
TZOFFSETFROM:-0800
TZOFFSETTO:-0700
TZNAME:PDT
DTSTART:20200308T100000
END:DAYLIGHT
BEGIN:STANDARD
TZOFFSETFROM:-0700
TZOFFSETTO:-0800
TZNAME:PST
DTSTART:20201101T090000
END:STANDARD
BEGIN:DAYLIGHT
TZOFFSETFROM:-0800
TZOFFSETTO:-0700
TZNAME:PDT
DTSTART:20210314T100000
END:DAYLIGHT
BEGIN:STANDARD
TZOFFSETFROM:-0700
TZOFFSETTO:-0800
TZNAME:PST
DTSTART:20211107T090000
END:STANDARD
BEGIN:DAYLIGHT
TZOFFSETFROM:-0800
TZOFFSETTO:-0700
TZNAME:PDT
DTSTART:20220313T100000
END:DAYLIGHT
BEGIN:STANDARD
TZOFFSETFROM:-0700
TZOFFSETTO:-0800
TZNAME:PST
DTSTART:20221106T090000
END:STANDARD
END:VTIMEZONE
BEGIN:VEVENT
DTSTART;TZID=America/Los_Angeles:20211022T020000
DTEND;TZID=America/Los_Angeles:20211022T040000
DTSTAMP:20260425T053043
CREATED:20210720T035646Z
LAST-MODIFIED:20211120T075611Z
UID:10001369-1634868000-1634875200@sccrcolleges.org
SUMMARY:SCCRC Regional Meeting (CC\, K12\, Industry)
DESCRIPTION:SCCRC Regional Meeting Minutes 10-22-21 \nAttendee List \n 
URL:https://sccrcolleges.org/event/sccrc-swp-regional-meeting-15/
LOCATION:Online Meeting
CATEGORIES:SCCRC Meetings
END:VEVENT
BEGIN:VEVENT
DTSTART;TZID=America/Los_Angeles:20211028T020000
DTEND;TZID=America/Los_Angeles:20211029T081500
DTSTAMP:20260425T053043
CREATED:20210818T232219Z
LAST-MODIFIED:20210818T232304Z
UID:10001242-1635386400-1635495300@sccrcolleges.org
SUMMARY:Digital Media Educators Conference (DMEC)
DESCRIPTION:Hello DMEC Fans!\nAfter an hiatus since 2018 …… We are Back and we are Virtual !!!!\nThanks to the Western Academy Training and Support Center (WASTC)\, we are having the Digital Media Educators Conference (DMEC)\, digital style.\n\nFind out more and submit a proposal at: WASTC DMEC 2021  
URL:https://sccrcolleges.org/event/digital-media-educators-conference-dmec/
LOCATION:Online Meeting
CATEGORIES:Regional Events
END:VEVENT
BEGIN:VEVENT
DTSTART;TZID=America/Los_Angeles:20211028T020000
DTEND;TZID=America/Los_Angeles:20211029T090000
DTSTAMP:20260425T053043
CREATED:20211013T000506Z
LAST-MODIFIED:20211013T000736Z
UID:10001251-1635386400-1635498000@sccrcolleges.org
SUMMARY:Digital Media Educators Conference 2021
DESCRIPTION:Digital Media Student Opportunities and Beyond: Success for All  \nThe Digital Media Educators Conference is two virtual days of non-stop Digital Media Student Opportunities and Beyond: Success For All. The three big focus areas are “Job! Jobs! Jobs!”\, “Industry Speaks!” and “In Practice!.”  DMEC provides a platform to network and connect with dedicated and creative people across all areas of the Digital Media sector. Whether you want to learn more about employment\, industry partnerships or best practices you have come to the right place!  Share this FLYER. \n\n\n\n\nVIRTUAL CONFERENCE OVERVIEW\nThis will NOT be another ZOOM seminar! We will be using a highly engaging platform by ENGAGEZ for top-tier streaming and interactivity. \n\n\nTracks Covered Include: “Jobs Jobs Jobs!”\, “Industry Speaks!”\, and “Best Practices!”  \n\n\n\n\nCost: $50 & includes free access to post-event conference sessions \n\n\nHave Questions? Contact us at events@wastc.org \n\n\nDownload: DMEC 2021 Agenda PDF \n\n\n\nRegister Now
URL:https://sccrcolleges.org/event/digital-media-educators-conference-2021/
LOCATION:Online Meeting
CATEGORIES:Regional Events
END:VEVENT
END:VCALENDAR